BEGIN:VCALENDAR
VERSION:2.0
PRODID:-//Athboy Parish | Athboy | Co. Meath | Meath Diocese - ECPv6.15.20//NONSGML v1.0//EN
CALSCALE:GREGORIAN
METHOD:PUBLISH
X-WR-CALNAME:Athboy Parish | Athboy | Co. Meath | Meath Diocese
X-ORIGINAL-URL:https://www.athboyparish.ie
X-WR-CALDESC:Events for Athboy Parish | Athboy | Co. Meath | Meath Diocese
REFRESH-INTERVAL;VALUE=DURATION:PT1H
X-Robots-Tag:noindex
X-PUBLISHED-TTL:PT1H
BEGIN:VTIMEZONE
TZID:Europe/Dublin
BEGIN:STANDARD
TZOFFSETFROM:+0000
TZOFFSETTO:+0100
TZNAME:IST
DTSTART:20170326T010000
END:STANDARD
BEGIN:DAYLIGHT
TZOFFSETFROM:+0100
TZOFFSETTO:+0000
TZNAME:GMT
DTSTART:20171029T010000
END:DAYLIGHT
BEGIN:STANDARD
TZOFFSETFROM:+0000
TZOFFSETTO:+0100
TZNAME:IST
DTSTART:20180325T010000
END:STANDARD
BEGIN:DAYLIGHT
TZOFFSETFROM:+0100
TZOFFSETTO:+0000
TZNAME:GMT
DTSTART:20181028T010000
END:DAYLIGHT
BEGIN:STANDARD
TZOFFSETFROM:+0000
TZOFFSETTO:+0100
TZNAME:IST
DTSTART:20190331T010000
END:STANDARD
BEGIN:DAYLIGHT
TZOFFSETFROM:+0100
TZOFFSETTO:+0000
TZNAME:GMT
DTSTART:20191027T010000
END:DAYLIGHT
END:VTIMEZONE
BEGIN:VEVENT
DTSTART;TZID=Europe/Dublin:20180305T200000
DTEND;TZID=Europe/Dublin:20180305T210000
DTSTAMP:20260424T004223
CREATED:20180302T122825Z
LAST-MODIFIED:20180302T122825Z
UID:10000036-1520280000-1520283600@www.athboyparish.ie
SUMMARY:Baptism Meeting
DESCRIPTION:The meeting for parents who wish to have their children baptised in March takes place on Monday March 5th at 8pm in the Parochial House. \nPlease phone 046 9432184 to book a place. \n 
URL:https://www.athboyparish.ie/event/baptism-meeting/
END:VEVENT
BEGIN:VEVENT
DTSTART;TZID=Europe/Dublin:20180306T083000
DTEND;TZID=Europe/Dublin:20180306T153000
DTSTAMP:20260424T004223
CREATED:20180302T105142Z
LAST-MODIFIED:20180302T105142Z
UID:10000035-1520325000-1520350200@www.athboyparish.ie
SUMMARY:Communion Calls
DESCRIPTION:are re-scheduled to take place on Tuesday March 6th at the usual times.
URL:https://www.athboyparish.ie/event/communion-calls-4/
END:VEVENT
BEGIN:VEVENT
DTSTART;TZID=Europe/Dublin:20180307T193000
DTEND;TZID=Europe/Dublin:20180307T193000
DTSTAMP:20260424T004223
CREATED:20180202T115543Z
LAST-MODIFIED:20180202T115835Z
UID:10000032-1520451000-1520451000@www.athboyparish.ie
SUMMARY:Eucharistic Adoration\, Rathcairn
DESCRIPTION:Mother Teresa said\, “Adoration is the best time you will spend on Earth.” All welcome to a weekly half hour of Eucharistic Adoration\, praying before the Blessed Sacrament\, for the protection and greater appreciation of the sanctity of all human life. Séipéal Ráth Chairn\, every Wednesday in February and March\, from 7.30 to 8pm.
URL:https://www.athboyparish.ie/event/eucharistic-adoration-rathcairn/2018-03-07/
CATEGORIES:Homepage
END:VEVENT
BEGIN:VEVENT
DTSTART;TZID=Europe/Dublin:20180314T193000
DTEND;TZID=Europe/Dublin:20180314T193000
DTSTAMP:20260424T004223
CREATED:20180202T115543Z
LAST-MODIFIED:20180202T115835Z
UID:10000033-1521055800-1521055800@www.athboyparish.ie
SUMMARY:Eucharistic Adoration\, Rathcairn
DESCRIPTION:Mother Teresa said\, “Adoration is the best time you will spend on Earth.” All welcome to a weekly half hour of Eucharistic Adoration\, praying before the Blessed Sacrament\, for the protection and greater appreciation of the sanctity of all human life. Séipéal Ráth Chairn\, every Wednesday in February and March\, from 7.30 to 8pm.
URL:https://www.athboyparish.ie/event/eucharistic-adoration-rathcairn/2018-03-14/
CATEGORIES:Homepage
END:VEVENT
BEGIN:VEVENT
DTSTART;TZID=Europe/Dublin:20180321T193000
DTEND;TZID=Europe/Dublin:20180321T193000
DTSTAMP:20260424T004223
CREATED:20180202T115543Z
LAST-MODIFIED:20180202T115835Z
UID:10000034-1521660600-1521660600@www.athboyparish.ie
SUMMARY:Eucharistic Adoration\, Rathcairn
DESCRIPTION:Mother Teresa said\, “Adoration is the best time you will spend on Earth.” All welcome to a weekly half hour of Eucharistic Adoration\, praying before the Blessed Sacrament\, for the protection and greater appreciation of the sanctity of all human life. Séipéal Ráth Chairn\, every Wednesday in February and March\, from 7.30 to 8pm.
URL:https://www.athboyparish.ie/event/eucharistic-adoration-rathcairn/2018-03-21/
CATEGORIES:Homepage
END:VEVENT
BEGIN:VEVENT
DTSTART;TZID=Europe/Dublin:20180325T150000
DTEND;TZID=Europe/Dublin:20180325T170000
DTSTAMP:20260424T004223
CREATED:20180316T123553Z
LAST-MODIFIED:20180316T123554Z
UID:10000016-1521990000-1521997200@www.athboyparish.ie
SUMMARY:Bingo
DESCRIPTION:Bingo in aid of Church funds will be held on Sunday 25th at 3pm in the Darnley Lodge Hotel. \nAll welcome.
URL:https://www.athboyparish.ie/event/bingo-3/
END:VEVENT
END:VCALENDAR