BEGIN:VCALENDAR
VERSION:2.0
PRODID:-//Athboy Parish | Athboy | Co. Meath | Meath Diocese - ECPv6.15.20//NONSGML v1.0//EN
CALSCALE:GREGORIAN
METHOD:PUBLISH
X-WR-CALNAME:Athboy Parish | Athboy | Co. Meath | Meath Diocese
X-ORIGINAL-URL:https://www.athboyparish.ie
X-WR-CALDESC:Events for Athboy Parish | Athboy | Co. Meath | Meath Diocese
REFRESH-INTERVAL;VALUE=DURATION:PT1H
X-Robots-Tag:noindex
X-PUBLISHED-TTL:PT1H
BEGIN:VTIMEZONE
TZID:Europe/Dublin
BEGIN:STANDARD
TZOFFSETFROM:+0000
TZOFFSETTO:+0100
TZNAME:IST
DTSTART:20170326T010000
END:STANDARD
BEGIN:DAYLIGHT
TZOFFSETFROM:+0100
TZOFFSETTO:+0000
TZNAME:GMT
DTSTART:20171029T010000
END:DAYLIGHT
BEGIN:STANDARD
TZOFFSETFROM:+0000
TZOFFSETTO:+0100
TZNAME:IST
DTSTART:20180325T010000
END:STANDARD
BEGIN:DAYLIGHT
TZOFFSETFROM:+0100
TZOFFSETTO:+0000
TZNAME:GMT
DTSTART:20181028T010000
END:DAYLIGHT
BEGIN:STANDARD
TZOFFSETFROM:+0000
TZOFFSETTO:+0100
TZNAME:IST
DTSTART:20190331T010000
END:STANDARD
BEGIN:DAYLIGHT
TZOFFSETFROM:+0100
TZOFFSETTO:+0000
TZNAME:GMT
DTSTART:20191027T010000
END:DAYLIGHT
END:VTIMEZONE
BEGIN:VEVENT
DTSTART;TZID=Europe/Dublin:20180903T200000
DTEND;TZID=Europe/Dublin:20180903T210000
DTSTAMP:20260423T115601
CREATED:20180705T145520Z
LAST-MODIFIED:20180705T145520Z
UID:10000043-1536004800-1536008400@www.athboyparish.ie
SUMMARY:Baptism Meeting
DESCRIPTION:Our next meeting for parents who are presenting their children for Baptism takes place on Monday September 3rd at 8pm in the Parochial House.\nParents are asked to contact the Parochial House on 046 9432184 to book their place. \n 
URL:https://www.athboyparish.ie/event/baptism-meeting-2/
END:VEVENT
BEGIN:VEVENT
DTSTART;TZID=Europe/Dublin:20180906T190000
DTEND;TZID=Europe/Dublin:20180906T190000
DTSTAMP:20260423T115601
CREATED:20180831T141643Z
LAST-MODIFIED:20180831T141643Z
UID:10000073-1536260400-1536260400@www.athboyparish.ie
SUMMARY:Lourdes Hospitalite Mass
DESCRIPTION:
URL:https://www.athboyparish.ie/event/lourdes-hospitalite-mass/
END:VEVENT
BEGIN:VEVENT
DTSTART;TZID=Europe/Dublin:20180907T083000
DTEND;TZID=Europe/Dublin:20180907T150000
DTSTAMP:20260423T115601
CREATED:20180831T141513Z
LAST-MODIFIED:20180831T141513Z
UID:10000006-1536309000-1536332400@www.athboyparish.ie
SUMMARY:Communion Calls
DESCRIPTION:Communion Calls take place on Friday next September 7th to the sick and housebound at the usual times.
URL:https://www.athboyparish.ie/event/communion-calls-6/
END:VEVENT
BEGIN:VEVENT
DTSTART;TZID=Europe/Dublin:20180907T193000
DTEND;TZID=Europe/Dublin:20180907T193000
DTSTAMP:20260423T115601
CREATED:20180720T084936Z
LAST-MODIFIED:20180720T090013Z
UID:10000027-1536348600-1536348600@www.athboyparish.ie
SUMMARY:Mass and Presentation to Fr. O'Connor
DESCRIPTION:As you may be aware Fr. O’Connor is leaving us in August. As a gesture of our appreciation for his years commitment to our parish \, a Mass is being organised for Friday 7th Sept at 7.30pm in St. James’ Church\, Athboy followed by a presentation and light refreshments in the Darnley Hotel.
URL:https://www.athboyparish.ie/event/mass-and-presentation-for-fr-oconnor/
END:VEVENT
BEGIN:VEVENT
DTSTART;TZID=Europe/Dublin:20180930T150000
DTEND;TZID=Europe/Dublin:20180930T170000
DTSTAMP:20260423T115601
CREATED:20180927T140629Z
LAST-MODIFIED:20180927T140630Z
UID:10000076-1538319600-1538326800@www.athboyparish.ie
SUMMARY:Bingo
DESCRIPTION:Bingo in aid of Church funds is on Sunday 30th September at 3pm in the Darnley Lodge Hotel.
URL:https://www.athboyparish.ie/event/bingo-8/
END:VEVENT
END:VCALENDAR