BEGIN:VCALENDAR
VERSION:2.0
PRODID:-//Athboy Parish | Athboy | Co. Meath | Meath Diocese - ECPv6.15.20//NONSGML v1.0//EN
CALSCALE:GREGORIAN
METHOD:PUBLISH
X-WR-CALNAME:Athboy Parish | Athboy | Co. Meath | Meath Diocese
X-ORIGINAL-URL:https://www.athboyparish.ie
X-WR-CALDESC:Events for Athboy Parish | Athboy | Co. Meath | Meath Diocese
REFRESH-INTERVAL;VALUE=DURATION:PT1H
X-Robots-Tag:noindex
X-PUBLISHED-TTL:PT1H
BEGIN:VTIMEZONE
TZID:Europe/Dublin
BEGIN:STANDARD
TZOFFSETFROM:+0000
TZOFFSETTO:+0100
TZNAME:IST
DTSTART:20170326T010000
END:STANDARD
BEGIN:DAYLIGHT
TZOFFSETFROM:+0100
TZOFFSETTO:+0000
TZNAME:GMT
DTSTART:20171029T010000
END:DAYLIGHT
BEGIN:STANDARD
TZOFFSETFROM:+0000
TZOFFSETTO:+0100
TZNAME:IST
DTSTART:20180325T010000
END:STANDARD
BEGIN:DAYLIGHT
TZOFFSETFROM:+0100
TZOFFSETTO:+0000
TZNAME:GMT
DTSTART:20181028T010000
END:DAYLIGHT
BEGIN:STANDARD
TZOFFSETFROM:+0000
TZOFFSETTO:+0100
TZNAME:IST
DTSTART:20190331T010000
END:STANDARD
BEGIN:DAYLIGHT
TZOFFSETFROM:+0100
TZOFFSETTO:+0000
TZNAME:GMT
DTSTART:20191027T010000
END:DAYLIGHT
END:VTIMEZONE
BEGIN:VEVENT
DTSTART;TZID=Europe/Dublin:20181001T200000
DTEND;TZID=Europe/Dublin:20181001T210000
DTSTAMP:20260423T095901
CREATED:20180914T135905Z
LAST-MODIFIED:20180914T140323Z
UID:10000074-1538424000-1538427600@www.athboyparish.ie
SUMMARY:Baptismal Meeting
DESCRIPTION:A meeting for parents who wish to have their babies baptised during the month of October takes place on Monday October 1st at 8pm in the Parochial House. \nPlease book in advance to the Parochial House 046 9432184 \n 
URL:https://www.athboyparish.ie/event/baptismal-meeting-3/
END:VEVENT
BEGIN:VEVENT
DTSTART;TZID=Europe/Dublin:20181005T090000
DTEND;TZID=Europe/Dublin:20181005T150000
DTSTAMP:20260423T095901
CREATED:20180928T093312Z
LAST-MODIFIED:20180928T093420Z
UID:10000077-1538730000-1538751600@www.athboyparish.ie
SUMMARY:Communion Calls
DESCRIPTION:Communion Calls to the sick and housebound will take place on Friday October 5th at the usual times.
URL:https://www.athboyparish.ie/event/communion-calls-7/
END:VEVENT
BEGIN:VEVENT
DTSTART;TZID=Europe/Dublin:20181010T193000
DTEND;TZID=Europe/Dublin:20181010T193000
DTSTAMP:20260423T095901
CREATED:20180921T091435Z
LAST-MODIFIED:20180921T101025Z
UID:10000075-1539199800-1539199800@www.athboyparish.ie
SUMMARY:Registration Meeting for Parents
DESCRIPTION:Registration meeting  on Wednesday 10th October in O’Growney National School\, Athboy at 7.30pm for parents of children in Second Class in the parish schools who would like  their children to receive the Sacraments of Penance and Holy Communion for the first time. \nPlease bring the Enrolment forms to this meeting. \n“Do This in Memory” candles will be for sale\, for use during the coming year\, as we prepare the children celebrating the sacraments. \nOn Sat 13th & Sun 14th Oct children who wish to receive Sacrament of Penance and Holy Communion for the first time are invited with their parents to an Enrolment Ceremony at the weekend Masses. \n  \n 
URL:https://www.athboyparish.ie/event/registration-meeting-for-parents/
LOCATION:O’Growney National School\, Athboy\, Athboy
END:VEVENT
BEGIN:VEVENT
DTSTART;TZID=Europe/Dublin:20181021T150000
DTEND;TZID=Europe/Dublin:20181021T170000
DTSTAMP:20260423T095901
CREATED:20181019T101638Z
LAST-MODIFIED:20181019T101802Z
UID:10000079-1540134000-1540141200@www.athboyparish.ie
SUMMARY:Bingo
DESCRIPTION:Bingo in aid of Church funds takes place on Sunday 21st October in the Darnley Lodge Hotel at 3pm.\nAll welcome.
URL:https://www.athboyparish.ie/event/bingo-9/
END:VEVENT
END:VCALENDAR