BEGIN:VCALENDAR
VERSION:2.0
PRODID:-//Athboy Parish | Athboy | Co. Meath | Meath Diocese - ECPv6.15.20//NONSGML v1.0//EN
CALSCALE:GREGORIAN
METHOD:PUBLISH
X-ORIGINAL-URL:https://www.athboyparish.ie
X-WR-CALDESC:Events for Athboy Parish | Athboy | Co. Meath | Meath Diocese
REFRESH-INTERVAL;VALUE=DURATION:PT1H
X-Robots-Tag:noindex
X-PUBLISHED-TTL:PT1H
BEGIN:VTIMEZONE
TZID:Europe/Dublin
BEGIN:STANDARD
TZOFFSETFROM:+0000
TZOFFSETTO:+0100
TZNAME:IST
DTSTART:20180325T010000
END:STANDARD
BEGIN:DAYLIGHT
TZOFFSETFROM:+0100
TZOFFSETTO:+0000
TZNAME:GMT
DTSTART:20181028T010000
END:DAYLIGHT
BEGIN:STANDARD
TZOFFSETFROM:+0000
TZOFFSETTO:+0100
TZNAME:IST
DTSTART:20190331T010000
END:STANDARD
BEGIN:DAYLIGHT
TZOFFSETFROM:+0100
TZOFFSETTO:+0000
TZNAME:GMT
DTSTART:20191027T010000
END:DAYLIGHT
BEGIN:STANDARD
TZOFFSETFROM:+0000
TZOFFSETTO:+0100
TZNAME:IST
DTSTART:20200329T010000
END:STANDARD
BEGIN:DAYLIGHT
TZOFFSETFROM:+0100
TZOFFSETTO:+0000
TZNAME:GMT
DTSTART:20201025T010000
END:DAYLIGHT
END:VTIMEZONE
BEGIN:VEVENT
DTSTART;TZID=Europe/Dublin:20190201T083000
DTEND;TZID=Europe/Dublin:20190201T160000
DTSTAMP:20260423T032537
CREATED:20190125T120335Z
LAST-MODIFIED:20190125T120336Z
UID:10000049-1549009800-1549036800@www.athboyparish.ie
SUMMARY:Communion Calls
DESCRIPTION:Fr Padraig will visit the sick and housebound on Friday February 1st at the usual times.
URL:https://www.athboyparish.ie/event/communion-calls-11/
END:VEVENT
BEGIN:VEVENT
DTSTART;TZID=Europe/Dublin:20190205T193000
DTEND;TZID=Europe/Dublin:20190205T210000
DTSTAMP:20260423T032537
CREATED:20190111T115410Z
LAST-MODIFIED:20190111T115410Z
UID:10000098-1549395000-1549400400@www.athboyparish.ie
SUMMARY:February Baptism Meeting
DESCRIPTION:The February Baptism Meeting  for parents who wish to have their babies baptised takes place on\nTuesday February 5th in the sacristy of St. James’ Church following the 7.30pm evening Mass.\nFor more details and to book a place please ring the Parochial House 046 9432184.
URL:https://www.athboyparish.ie/event/february-baptism-meeting/
END:VEVENT
BEGIN:VEVENT
DTSTART;TZID=Europe/Dublin:20190215T110000
DTEND;TZID=Europe/Dublin:20190215T130000
DTSTAMP:20260423T032537
CREATED:20190111T115615Z
LAST-MODIFIED:20190111T115615Z
UID:10000100-1550228400-1550235600@www.athboyparish.ie
SUMMARY:Confirmation
DESCRIPTION:Confirmation takes place on Friday 15th February is St. James’ Church\, Athboy at 11am.
URL:https://www.athboyparish.ie/event/confirmation-2/
END:VEVENT
END:VCALENDAR