BEGIN:VCALENDAR
VERSION:2.0
PRODID:-//Athboy Parish | Athboy | Co. Meath | Meath Diocese - ECPv6.15.20//NONSGML v1.0//EN
CALSCALE:GREGORIAN
METHOD:PUBLISH
X-WR-CALNAME:Athboy Parish | Athboy | Co. Meath | Meath Diocese
X-ORIGINAL-URL:https://www.athboyparish.ie
X-WR-CALDESC:Events for Athboy Parish | Athboy | Co. Meath | Meath Diocese
REFRESH-INTERVAL;VALUE=DURATION:PT1H
X-Robots-Tag:noindex
X-PUBLISHED-TTL:PT1H
BEGIN:VTIMEZONE
TZID:Europe/Dublin
BEGIN:STANDARD
TZOFFSETFROM:+0000
TZOFFSETTO:+0100
TZNAME:IST
DTSTART:20180325T010000
END:STANDARD
BEGIN:DAYLIGHT
TZOFFSETFROM:+0100
TZOFFSETTO:+0000
TZNAME:GMT
DTSTART:20181028T010000
END:DAYLIGHT
BEGIN:STANDARD
TZOFFSETFROM:+0000
TZOFFSETTO:+0100
TZNAME:IST
DTSTART:20190331T010000
END:STANDARD
BEGIN:DAYLIGHT
TZOFFSETFROM:+0100
TZOFFSETTO:+0000
TZNAME:GMT
DTSTART:20191027T010000
END:DAYLIGHT
BEGIN:STANDARD
TZOFFSETFROM:+0000
TZOFFSETTO:+0100
TZNAME:IST
DTSTART:20200329T010000
END:STANDARD
BEGIN:DAYLIGHT
TZOFFSETFROM:+0100
TZOFFSETTO:+0000
TZNAME:GMT
DTSTART:20201025T010000
END:DAYLIGHT
END:VTIMEZONE
BEGIN:VEVENT
DTSTART;TZID=Europe/Dublin:20190301T083000
DTEND;TZID=Europe/Dublin:20190301T160000
DTSTAMP:20260423T013807
CREATED:20190225T104553Z
LAST-MODIFIED:20190225T104553Z
UID:10000055-1551429000-1551456000@www.athboyparish.ie
SUMMARY:Communion Calls
DESCRIPTION:Fr Padraig will visit the sick on Friday March 1st.
URL:https://www.athboyparish.ie/event/communion-calls-12/
END:VEVENT
BEGIN:VEVENT
DTSTART;TZID=Europe/Dublin:20190301T200000
DTEND;TZID=Europe/Dublin:20190301T200000
DTSTAMP:20260423T013807
CREATED:20190228T103051Z
LAST-MODIFIED:20190228T103051Z
UID:10000057-1551470400-1551470400@www.athboyparish.ie
SUMMARY:Hill of Ward Cemetery Meeting
DESCRIPTION:A meeting regarding the condition of the Hill of Ward cemetery will take place in the kitchen of St James’ Hall on Friday March 1st at 8pm with a view to improving the situation. All interested are invited to attend.
URL:https://www.athboyparish.ie/event/hill-of-ward-cemetery-meeting/
ATTACH;FMTTYPE=image/jpeg:https://www.athboyparish.ie/wp-content/uploads/2019/02/Hill-of-Ward-2018.jpg
END:VEVENT
BEGIN:VEVENT
DTSTART;TZID=Europe/Dublin:20190303T150000
DTEND;TZID=Europe/Dublin:20190303T170000
DTSTAMP:20260423T013807
CREATED:20190215T154322Z
LAST-MODIFIED:20190215T154322Z
UID:10000053-1551625200-1551632400@www.athboyparish.ie
SUMMARY:Bingo
DESCRIPTION:BINGO in aid of Church funds takes place on Sunday Mar 3rd at 3pm in the Darnley Lodge Hotel.
URL:https://www.athboyparish.ie/event/bingo-12/
END:VEVENT
BEGIN:VEVENT
DTSTART;TZID=Europe/Dublin:20190306T193000
DTEND;TZID=Europe/Dublin:20190306T193000
DTSTAMP:20260423T013807
CREATED:20190301T105240Z
LAST-MODIFIED:20190301T105405Z
UID:10000108-1551900600-1551900600@www.athboyparish.ie
SUMMARY:Rosary and Chaplet of Divine Mercy
DESCRIPTION:every Wednesday in Lent at 7.30pm in Rathcairn Church.\nThere will be an opportunity to do Stations of the Cross afterwards.
URL:https://www.athboyparish.ie/event/rosary-and-chaplet-of-divine-mercy/2019-03-06/
END:VEVENT
BEGIN:VEVENT
DTSTART;TZID=Europe/Dublin:20190308T184500
DTEND;TZID=Europe/Dublin:20190308T204500
DTSTAMP:20260423T013807
CREATED:20190308T124832Z
LAST-MODIFIED:20190308T125056Z
UID:10000116-1552070700-1552077900@www.athboyparish.ie
SUMMARY:An Invitation to Young People
DESCRIPTION:On the Thursday evenings of Lent we invite young people from 5th & 6th Class to meet members of the NET Team at 6.45-7.30pm and students from Secondary School at 8-8.45pm.  The meetings will take place each side of 7.30pm Mass and they are an opportunity for young people to chat and learn about their faith. You can learn more about Net Ministries by checking www.netministries.ie
URL:https://www.athboyparish.ie/event/an-invitation-to-young-people/2019-03-08/
END:VEVENT
BEGIN:VEVENT
DTSTART;TZID=Europe/Dublin:20190313T193000
DTEND;TZID=Europe/Dublin:20190313T193000
DTSTAMP:20260423T013807
CREATED:20190301T105240Z
LAST-MODIFIED:20190301T105405Z
UID:10000109-1552505400-1552505400@www.athboyparish.ie
SUMMARY:Rosary and Chaplet of Divine Mercy
DESCRIPTION:every Wednesday in Lent at 7.30pm in Rathcairn Church.\nThere will be an opportunity to do Stations of the Cross afterwards.
URL:https://www.athboyparish.ie/event/rosary-and-chaplet-of-divine-mercy/2019-03-13/
END:VEVENT
BEGIN:VEVENT
DTSTART;TZID=Europe/Dublin:20190314T184500
DTEND;TZID=Europe/Dublin:20190314T204500
DTSTAMP:20260423T013807
CREATED:20190308T124832Z
LAST-MODIFIED:20190308T125056Z
UID:10000117-1552589100-1552596300@www.athboyparish.ie
SUMMARY:An Invitation to Young People
DESCRIPTION:On the Thursday evenings of Lent we invite young people from 5th & 6th Class to meet members of the NET Team at 6.45-7.30pm and students from Secondary School at 8-8.45pm.  The meetings will take place each side of 7.30pm Mass and they are an opportunity for young people to chat and learn about their faith. You can learn more about Net Ministries by checking www.netministries.ie
URL:https://www.athboyparish.ie/event/an-invitation-to-young-people/2019-03-14/
END:VEVENT
BEGIN:VEVENT
DTSTART;TZID=Europe/Dublin:20190320T193000
DTEND;TZID=Europe/Dublin:20190320T193000
DTSTAMP:20260423T013807
CREATED:20190301T105240Z
LAST-MODIFIED:20190301T105405Z
UID:10000110-1553110200-1553110200@www.athboyparish.ie
SUMMARY:Rosary and Chaplet of Divine Mercy
DESCRIPTION:every Wednesday in Lent at 7.30pm in Rathcairn Church.\nThere will be an opportunity to do Stations of the Cross afterwards.
URL:https://www.athboyparish.ie/event/rosary-and-chaplet-of-divine-mercy/2019-03-20/
END:VEVENT
BEGIN:VEVENT
DTSTART;TZID=Europe/Dublin:20190321T184500
DTEND;TZID=Europe/Dublin:20190321T204500
DTSTAMP:20260423T013807
CREATED:20190308T124832Z
LAST-MODIFIED:20190308T125056Z
UID:10000118-1553193900-1553201100@www.athboyparish.ie
SUMMARY:An Invitation to Young People
DESCRIPTION:On the Thursday evenings of Lent we invite young people from 5th & 6th Class to meet members of the NET Team at 6.45-7.30pm and students from Secondary School at 8-8.45pm.  The meetings will take place each side of 7.30pm Mass and they are an opportunity for young people to chat and learn about their faith. You can learn more about Net Ministries by checking www.netministries.ie
URL:https://www.athboyparish.ie/event/an-invitation-to-young-people/2019-03-21/
END:VEVENT
BEGIN:VEVENT
DTSTART;TZID=Europe/Dublin:20190324T150000
DTEND;TZID=Europe/Dublin:20190324T170000
DTSTAMP:20260423T013807
CREATED:20190308T124320Z
LAST-MODIFIED:20190308T124435Z
UID:10000115-1553439600-1553446800@www.athboyparish.ie
SUMMARY:Bingo
DESCRIPTION:in aid of Church funds takes place on Sun 24th March at 3pm in the Darnley Lodge Hotel.
URL:https://www.athboyparish.ie/event/bingo-13/
END:VEVENT
BEGIN:VEVENT
DTSTART;TZID=Europe/Dublin:20190327T193000
DTEND;TZID=Europe/Dublin:20190327T193000
DTSTAMP:20260423T013807
CREATED:20190301T105240Z
LAST-MODIFIED:20190301T105405Z
UID:10000111-1553715000-1553715000@www.athboyparish.ie
SUMMARY:Rosary and Chaplet of Divine Mercy
DESCRIPTION:every Wednesday in Lent at 7.30pm in Rathcairn Church.\nThere will be an opportunity to do Stations of the Cross afterwards.
URL:https://www.athboyparish.ie/event/rosary-and-chaplet-of-divine-mercy/2019-03-27/
END:VEVENT
BEGIN:VEVENT
DTSTART;TZID=Europe/Dublin:20190328T184500
DTEND;TZID=Europe/Dublin:20190328T204500
DTSTAMP:20260423T013807
CREATED:20190308T124832Z
LAST-MODIFIED:20190308T125056Z
UID:10000119-1553798700-1553805900@www.athboyparish.ie
SUMMARY:An Invitation to Young People
DESCRIPTION:On the Thursday evenings of Lent we invite young people from 5th & 6th Class to meet members of the NET Team at 6.45-7.30pm and students from Secondary School at 8-8.45pm.  The meetings will take place each side of 7.30pm Mass and they are an opportunity for young people to chat and learn about their faith. You can learn more about Net Ministries by checking www.netministries.ie
URL:https://www.athboyparish.ie/event/an-invitation-to-young-people/2019-03-28/
END:VEVENT
BEGIN:VEVENT
DTSTART;TZID=Europe/Dublin:20190329T200000
DTEND;TZID=Europe/Dublin:20190329T200000
DTSTAMP:20260423T013807
CREATED:20190208T103119Z
LAST-MODIFIED:20190228T111123Z
UID:10000051-1553889600-1553889600@www.athboyparish.ie
SUMMARY:An Evening of Music
DESCRIPTION:Tickets available from the Parochial House\, the Darnley Lodge Hotel and McElhinney’s Mans Shop\, Smyth’s Newagents and the Siopa\, Rathcairn.
URL:https://www.athboyparish.ie/event/an-evening-of-music/
ATTACH;FMTTYPE=image/jpeg:https://www.athboyparish.ie/wp-content/uploads/2019/02/An-Evening-of-Music.jpg
END:VEVENT
END:VCALENDAR