BEGIN:VCALENDAR
VERSION:2.0
PRODID:-//Athboy Parish | Athboy | Co. Meath | Meath Diocese - ECPv6.15.20//NONSGML v1.0//EN
CALSCALE:GREGORIAN
METHOD:PUBLISH
X-ORIGINAL-URL:https://www.athboyparish.ie
X-WR-CALDESC:Events for Athboy Parish | Athboy | Co. Meath | Meath Diocese
REFRESH-INTERVAL;VALUE=DURATION:PT1H
X-Robots-Tag:noindex
X-PUBLISHED-TTL:PT1H
BEGIN:VTIMEZONE
TZID:Europe/Dublin
BEGIN:STANDARD
TZOFFSETFROM:+0000
TZOFFSETTO:+0100
TZNAME:IST
DTSTART:20180325T010000
END:STANDARD
BEGIN:DAYLIGHT
TZOFFSETFROM:+0100
TZOFFSETTO:+0000
TZNAME:GMT
DTSTART:20181028T010000
END:DAYLIGHT
BEGIN:STANDARD
TZOFFSETFROM:+0000
TZOFFSETTO:+0100
TZNAME:IST
DTSTART:20190331T010000
END:STANDARD
BEGIN:DAYLIGHT
TZOFFSETFROM:+0100
TZOFFSETTO:+0000
TZNAME:GMT
DTSTART:20191027T010000
END:DAYLIGHT
BEGIN:STANDARD
TZOFFSETFROM:+0000
TZOFFSETTO:+0100
TZNAME:IST
DTSTART:20200329T010000
END:STANDARD
BEGIN:DAYLIGHT
TZOFFSETFROM:+0100
TZOFFSETTO:+0000
TZNAME:GMT
DTSTART:20201025T010000
END:DAYLIGHT
END:VTIMEZONE
BEGIN:VEVENT
DTSTART;TZID=Europe/Dublin:20190702T200000
DTEND;TZID=Europe/Dublin:20190702T210000
DTSTAMP:20260422T183123
CREATED:20190607T104108Z
LAST-MODIFIED:20190607T104108Z
UID:10000128-1562097600-1562101200@www.athboyparish.ie
SUMMARY:July Baptism Meeting
DESCRIPTION:Baptism preparation meeting for parents who are presenting  their children for baptism in July takes place on Tuesday 2nd July\, in the sacristy of St. James’ Church at 8pm.\nYou are invited to attend the 7.30pm Mass which takes place before the meeting in the Church.
URL:https://www.athboyparish.ie/event/july-baptism-meeting/
END:VEVENT
BEGIN:VEVENT
DTSTART;TZID=Europe/Dublin:20190705T083000
DTEND;TZID=Europe/Dublin:20190705T160000
DTSTAMP:20260422T183123
CREATED:20190621T105444Z
LAST-MODIFIED:20190621T105444Z
UID:10000130-1562315400-1562342400@www.athboyparish.ie
SUMMARY:Communion Calls
DESCRIPTION:Fr Padraig will visit the sick on Friday July 5th.
URL:https://www.athboyparish.ie/event/communion-calls-15/
END:VEVENT
BEGIN:VEVENT
DTSTART;TZID=Europe/Dublin:20190707T150000
DTEND;TZID=Europe/Dublin:20190707T170000
DTSTAMP:20260422T183123
CREATED:20190621T105313Z
LAST-MODIFIED:20190621T105313Z
UID:10000129-1562511600-1562518800@www.athboyparish.ie
SUMMARY:Bingo
DESCRIPTION:Bingo in aid of Church funds takes place on Sunday 7th July in the Darnley Lodge at 3pm. All welcome.
URL:https://www.athboyparish.ie/event/bingo-17/
END:VEVENT
BEGIN:VEVENT
DTSTART;TZID=Europe/Dublin:20190728T150000
DTEND;TZID=Europe/Dublin:20190728T170000
DTSTAMP:20260422T183123
CREATED:20190712T114405Z
LAST-MODIFIED:20190712T114406Z
UID:10000133-1564326000-1564333200@www.athboyparish.ie
SUMMARY:Bingo
DESCRIPTION:Bingo in aid of Church funds takes place on Sunday July 28th at 3pm in the Darnley Lodge Hotel.\nAll welcome.
URL:https://www.athboyparish.ie/event/bingo-18/
END:VEVENT
END:VCALENDAR