BEGIN:VCALENDAR
VERSION:2.0
PRODID:-//Athboy Parish | Athboy | Co. Meath | Meath Diocese - ECPv6.15.20//NONSGML v1.0//EN
CALSCALE:GREGORIAN
METHOD:PUBLISH
X-ORIGINAL-URL:https://www.athboyparish.ie
X-WR-CALDESC:Events for Athboy Parish | Athboy | Co. Meath | Meath Diocese
REFRESH-INTERVAL;VALUE=DURATION:PT1H
X-Robots-Tag:noindex
X-PUBLISHED-TTL:PT1H
BEGIN:VTIMEZONE
TZID:Europe/Dublin
BEGIN:STANDARD
TZOFFSETFROM:+0000
TZOFFSETTO:+0100
TZNAME:IST
DTSTART:20180325T010000
END:STANDARD
BEGIN:DAYLIGHT
TZOFFSETFROM:+0100
TZOFFSETTO:+0000
TZNAME:GMT
DTSTART:20181028T010000
END:DAYLIGHT
BEGIN:STANDARD
TZOFFSETFROM:+0000
TZOFFSETTO:+0100
TZNAME:IST
DTSTART:20190331T010000
END:STANDARD
BEGIN:DAYLIGHT
TZOFFSETFROM:+0100
TZOFFSETTO:+0000
TZNAME:GMT
DTSTART:20191027T010000
END:DAYLIGHT
BEGIN:STANDARD
TZOFFSETFROM:+0000
TZOFFSETTO:+0100
TZNAME:IST
DTSTART:20200329T010000
END:STANDARD
BEGIN:DAYLIGHT
TZOFFSETFROM:+0100
TZOFFSETTO:+0000
TZNAME:GMT
DTSTART:20201025T010000
END:DAYLIGHT
END:VTIMEZONE
BEGIN:VEVENT
DTSTART;TZID=Europe/Dublin:20190904T200000
DTEND;TZID=Europe/Dublin:20190904T210000
DTSTAMP:20260422T143313
CREATED:20190809T090245Z
LAST-MODIFIED:20190809T090245Z
UID:10000135-1567627200-1567630800@www.athboyparish.ie
SUMMARY:September Baptism Meeting
DESCRIPTION:The September Baptism meeting for parents will take place on Wednesday September 4th at 8pm in the sacristy of St. James’ Church\, Athboy.\nPlease phone the Parochial House 046 9432184 if you wish to attend.\nParents are invited to attend the 7.30pm Mass which will take place before the meeting.
URL:https://www.athboyparish.ie/event/september-baptism-meeting/
END:VEVENT
BEGIN:VEVENT
DTSTART;TZID=Europe/Dublin:20190906T083000
DTEND;TZID=Europe/Dublin:20190906T160000
DTSTAMP:20260422T143313
CREATED:20190830T141148Z
LAST-MODIFIED:20190830T141148Z
UID:10000137-1567758600-1567785600@www.athboyparish.ie
SUMMARY:Communion Calls
DESCRIPTION:Fr Padraig will visit the sick on Friday next September  6th.
URL:https://www.athboyparish.ie/event/communion-calls-17/
END:VEVENT
BEGIN:VEVENT
DTSTART;TZID=Europe/Dublin:20190908T140000
DTEND;TZID=Europe/Dublin:20190908T140000
DTSTAMP:20260422T143313
CREATED:20190801T143616Z
LAST-MODIFIED:20190809T145006Z
UID:10000134-1567951200-1567951200@www.athboyparish.ie
SUMMARY:Auction
DESCRIPTION:Auction in aid of Athboy Parish in Convent Community Centre on Sunday 8th September at 2pm.
URL:https://www.athboyparish.ie/event/auction/
END:VEVENT
END:VCALENDAR