BEGIN:VCALENDAR
VERSION:2.0
PRODID:-//Athboy Parish | Athboy | Co. Meath | Meath Diocese - ECPv6.15.20//NONSGML v1.0//EN
CALSCALE:GREGORIAN
METHOD:PUBLISH
X-WR-CALNAME:Athboy Parish | Athboy | Co. Meath | Meath Diocese
X-ORIGINAL-URL:https://www.athboyparish.ie
X-WR-CALDESC:Events for Athboy Parish | Athboy | Co. Meath | Meath Diocese
REFRESH-INTERVAL;VALUE=DURATION:PT1H
X-Robots-Tag:noindex
X-PUBLISHED-TTL:PT1H
BEGIN:VTIMEZONE
TZID:Europe/Dublin
BEGIN:STANDARD
TZOFFSETFROM:+0000
TZOFFSETTO:+0100
TZNAME:IST
DTSTART:20180325T010000
END:STANDARD
BEGIN:DAYLIGHT
TZOFFSETFROM:+0100
TZOFFSETTO:+0000
TZNAME:GMT
DTSTART:20181028T010000
END:DAYLIGHT
BEGIN:STANDARD
TZOFFSETFROM:+0000
TZOFFSETTO:+0100
TZNAME:IST
DTSTART:20190331T010000
END:STANDARD
BEGIN:DAYLIGHT
TZOFFSETFROM:+0100
TZOFFSETTO:+0000
TZNAME:GMT
DTSTART:20191027T010000
END:DAYLIGHT
BEGIN:STANDARD
TZOFFSETFROM:+0000
TZOFFSETTO:+0100
TZNAME:IST
DTSTART:20200329T010000
END:STANDARD
BEGIN:DAYLIGHT
TZOFFSETFROM:+0100
TZOFFSETTO:+0000
TZNAME:GMT
DTSTART:20201025T010000
END:DAYLIGHT
END:VTIMEZONE
BEGIN:VEVENT
DTSTART;TZID=Europe/Dublin:20191001T200000
DTEND;TZID=Europe/Dublin:20191001T210000
DTSTAMP:20260422T125926
CREATED:20190906T094255Z
LAST-MODIFIED:20190906T094255Z
UID:10000140-1569960000-1569963600@www.athboyparish.ie
SUMMARY:Baptism Meeting
DESCRIPTION:Meeting for parents who wish to have their babies baptised takes place in the sacristy of St. James’ Church\, Athboy on Tuesday October 1st at 8pm.\nParents are invited to attend the 7.30pm Mass also.
URL:https://www.athboyparish.ie/event/baptism-meeting-5/
END:VEVENT
BEGIN:VEVENT
DTSTART;TZID=Europe/Dublin:20191002T193000
DTEND;TZID=Europe/Dublin:20191002T193000
DTSTAMP:20260422T125926
CREATED:20190906T093648Z
LAST-MODIFIED:20190906T093648Z
UID:10000138-1570044600-1570044600@www.athboyparish.ie
SUMMARY:Confirmation Meeting for Parents
DESCRIPTION:Parents of children for Confirmation in 2020 are invited to a meeting on Wednesday 2nd October at 7.30pm in O’Growney National School\, Athboy.
URL:https://www.athboyparish.ie/event/confirmation-meeting-for-parents-2/
END:VEVENT
BEGIN:VEVENT
DTSTART;TZID=Europe/Dublin:20191004T083000
DTEND;TZID=Europe/Dublin:20191004T160000
DTSTAMP:20260422T125926
CREATED:20190927T101351Z
LAST-MODIFIED:20190927T101355Z
UID:10000141-1570177800-1570204800@www.athboyparish.ie
SUMMARY:Communion Calls
DESCRIPTION:Fr Padraig will visit the sick and housebound on Friday 4th October.
URL:https://www.athboyparish.ie/event/communion-calls-18/
END:VEVENT
BEGIN:VEVENT
DTSTART;TZID=Europe/Dublin:20191009T193000
DTEND;TZID=Europe/Dublin:20191009T193000
DTSTAMP:20260422T125926
CREATED:20190906T093846Z
LAST-MODIFIED:20190906T093846Z
UID:10000139-1570649400-1570649400@www.athboyparish.ie
SUMMARY:Holy Communion for the First Time - Parents' Meeting
DESCRIPTION:Parents with children who wish to receive Holy Communion for the First Time are cordially invited to a meeting on Wed 9th October at 7.30pm in O’Growney National School.
URL:https://www.athboyparish.ie/event/holy-communion-for-the-first-time-parents-meeting/
END:VEVENT
BEGIN:VEVENT
DTSTART;TZID=Europe/Dublin:20191013T150000
DTEND;TZID=Europe/Dublin:20191013T170000
DTSTAMP:20260422T125926
CREATED:20191003T085713Z
LAST-MODIFIED:20191003T085714Z
UID:10000142-1570978800-1570986000@www.athboyparish.ie
SUMMARY:Bingo
DESCRIPTION:Bingo in aid of Church funds takes place on Sunday 13th October at 3pm in the Darnley Lodge Hotel.\nAll welcome.
URL:https://www.athboyparish.ie/event/bingo-20/
END:VEVENT
BEGIN:VEVENT
DTSTART;TZID=Europe/Dublin:20191018T100000
DTEND;TZID=Europe/Dublin:20191018T100000
DTSTAMP:20260422T125926
CREATED:20191011T135922Z
LAST-MODIFIED:20191011T135922Z
UID:10000146-1571392800-1571392800@www.athboyparish.ie
SUMMARY:Mass for Fr O'Growney
DESCRIPTION:Mass to mark the 120th anniversary of the death in 1899 of Fr Eugene O’Growney Mass will be celebrated on Friday 18th October at 10am with the children of O’Growney N.S. Athboy and Scoil Uí Ghramhnaigh Rathcairn.
URL:https://www.athboyparish.ie/event/mass-for-fr-ogrowney/
END:VEVENT
BEGIN:VEVENT
DTSTART;TZID=Europe/Dublin:20191023T193000
DTEND;TZID=Europe/Dublin:20191023T193000
DTSTAMP:20260422T125926
CREATED:20191011T140136Z
LAST-MODIFIED:20191017T131442Z
UID:10000143-1571859000-1571859000@www.athboyparish.ie
SUMMARY:Meeting for Ministers of the Eucharist
DESCRIPTION:A meeting for all Eucharistic Ministers in our parish will take place in the Parochial House on Wed Oct 23rd following 7.30pm Mass.
URL:https://www.athboyparish.ie/event/meeting-for-ministers-of-the-eucharist/
END:VEVENT
BEGIN:VEVENT
DTSTART;TZID=Europe/Dublin:20191027T150000
DTEND;TZID=Europe/Dublin:20191027T170000
DTSTAMP:20260422T125926
CREATED:20191018T092715Z
LAST-MODIFIED:20191018T092715Z
UID:10000148-1572188400-1572195600@www.athboyparish.ie
SUMMARY:Bingo
DESCRIPTION:in aid of parish funds in the Darnley Lodge Sunday 27th October at 3pm\, your support is appreciated.
URL:https://www.athboyparish.ie/event/bingo-21/
END:VEVENT
END:VCALENDAR