BEGIN:VCALENDAR
VERSION:2.0
PRODID:-//Athboy Parish | Athboy | Co. Meath | Meath Diocese - ECPv6.15.17.1//NONSGML v1.0//EN
CALSCALE:GREGORIAN
METHOD:PUBLISH
X-WR-CALNAME:Athboy Parish | Athboy | Co. Meath | Meath Diocese
X-ORIGINAL-URL:https://www.athboyparish.ie
X-WR-CALDESC:Events for Athboy Parish | Athboy | Co. Meath | Meath Diocese
REFRESH-INTERVAL;VALUE=DURATION:PT1H
X-Robots-Tag:noindex
X-PUBLISHED-TTL:PT1H
BEGIN:VTIMEZONE
TZID:Europe/Dublin
BEGIN:STANDARD
TZOFFSETFROM:+0000
TZOFFSETTO:+0100
TZNAME:IST
DTSTART:20190331T010000
END:STANDARD
BEGIN:DAYLIGHT
TZOFFSETFROM:+0100
TZOFFSETTO:+0000
TZNAME:GMT
DTSTART:20191027T010000
END:DAYLIGHT
BEGIN:STANDARD
TZOFFSETFROM:+0000
TZOFFSETTO:+0100
TZNAME:IST
DTSTART:20200329T010000
END:STANDARD
BEGIN:DAYLIGHT
TZOFFSETFROM:+0100
TZOFFSETTO:+0000
TZNAME:GMT
DTSTART:20201025T010000
END:DAYLIGHT
BEGIN:STANDARD
TZOFFSETFROM:+0000
TZOFFSETTO:+0100
TZNAME:IST
DTSTART:20210328T010000
END:STANDARD
BEGIN:DAYLIGHT
TZOFFSETFROM:+0100
TZOFFSETTO:+0000
TZNAME:GMT
DTSTART:20211031T010000
END:DAYLIGHT
END:VTIMEZONE
BEGIN:VEVENT
DTSTART;TZID=Europe/Dublin:20200103T083000
DTEND;TZID=Europe/Dublin:20200103T160000
DTSTAMP:20260420T080859
CREATED:20191220T144816Z
LAST-MODIFIED:20191220T144817Z
UID:10000155-1578040200-1578067200@www.athboyparish.ie
SUMMARY:Communion Calls in January
DESCRIPTION:Fr Padraig will visit the sick on Friday January 3rd.
URL:https://www.athboyparish.ie/event/communion-calls-in-january/
END:VEVENT
BEGIN:VEVENT
DTSTART;TZID=Europe/Dublin:20200112T150000
DTEND;TZID=Europe/Dublin:20200112T170000
DTSTAMP:20260420T080859
CREATED:20200102T143654Z
LAST-MODIFIED:20200102T143654Z
UID:10000156-1578841200-1578848400@www.athboyparish.ie
SUMMARY:Bingo
DESCRIPTION:Bingo in aid of Church funds takes place on Sunday 12th January 2020 in the Darnley Lodge at 3pm. All welcome
URL:https://www.athboyparish.ie/event/bingo-22/
END:VEVENT
BEGIN:VEVENT
DTSTART;TZID=Europe/Dublin:20200124T193000
DTEND;TZID=Europe/Dublin:20200124T193000
DTSTAMP:20260420T080859
CREATED:20200110T144724Z
LAST-MODIFIED:20200117T141440Z
UID:10000157-1579894200-1579894200@www.athboyparish.ie
SUMMARY:Prayer Service for Week of Christian Unity
DESCRIPTION:Week of Prayer for Christian Unity takes place every year between 18 – 25th January.\nThis year the theme is “they showed us unusual kindness” Acts 28:2.\nThrough unusual kindness towards one another\, Christians are drawn closer together\, heeding the prayer of Jesus\, “that they all may be one.”   \nThis year a Service of Prayer for Christian Unity will take place in St James’ Church of Ireland on Friday 24th January at 7.30pm.\nAll are welcome
URL:https://www.athboyparish.ie/event/prayer-service-for-week-of-christian-unity/
END:VEVENT
BEGIN:VEVENT
DTSTART;TZID=Europe/Dublin:20200131T083000
DTEND;TZID=Europe/Dublin:20200131T160000
DTSTAMP:20260420T080859
CREATED:20200130T114800Z
LAST-MODIFIED:20200130T114800Z
UID:10000159-1580459400-1580486400@www.athboyparish.ie
SUMMARY:Communion Calls
DESCRIPTION:As Confirmation will be celebrated on 7th Feb\, Fr Padraig will visit the sick on Friday 31st January.
URL:https://www.athboyparish.ie/event/communion-calls-21/
END:VEVENT
END:VCALENDAR